BEGIN:VCALENDAR
VERSION:2.0
PRODID:-//Sun Bailante Carnival Parties - ECPv6.15.20//NONSGML v1.0//EN
CALSCALE:GREGORIAN
METHOD:PUBLISH
X-WR-CALNAME:Sun Bailante Carnival Parties
X-ORIGINAL-URL:https://sunbailante.com
X-WR-CALDESC:Events for Sun Bailante Carnival Parties
REFRESH-INTERVAL;VALUE=DURATION:PT1H
X-Robots-Tag:noindex
X-PUBLISHED-TTL:PT1H
BEGIN:VTIMEZONE
TZID:Europe/Paris
BEGIN:DAYLIGHT
TZOFFSETFROM:+0100
TZOFFSETTO:+0200
TZNAME:CEST
DTSTART:20240331T010000
END:DAYLIGHT
BEGIN:STANDARD
TZOFFSETFROM:+0200
TZOFFSETTO:+0100
TZNAME:CET
DTSTART:20241027T010000
END:STANDARD
BEGIN:DAYLIGHT
TZOFFSETFROM:+0100
TZOFFSETTO:+0200
TZNAME:CEST
DTSTART:20250330T010000
END:DAYLIGHT
BEGIN:STANDARD
TZOFFSETFROM:+0200
TZOFFSETTO:+0100
TZNAME:CET
DTSTART:20251026T010000
END:STANDARD
BEGIN:DAYLIGHT
TZOFFSETFROM:+0100
TZOFFSETTO:+0200
TZNAME:CEST
DTSTART:20260329T010000
END:DAYLIGHT
BEGIN:STANDARD
TZOFFSETFROM:+0200
TZOFFSETTO:+0100
TZNAME:CET
DTSTART:20261025T010000
END:STANDARD
END:VTIMEZONE
BEGIN:VEVENT
DTSTART;TZID=Europe/Paris:20250825T230000
DTEND;TZID=Europe/Paris:20250826T050000
DTSTAMP:20260424T231107
CREATED:20250519T181217Z
LAST-MODIFIED:20250616T132613Z
UID:1533-1756162800-1756184400@sunbailante.com
SUMMARY:Notting Hill Carnival 2025 - Closing Party - The MegaFoam Party
DESCRIPTION:Let’s end the Notting Hill Carnival with a Bang! \n🌍🎉 THE MEGA FOAM PARTY – REP YOUR FLAG EDITION 🇯🇲🇹🇹🇧🇧🇬🇭🇳🇬 \n💃Massive Foam cannons\, carnival revelers\, and unmatched vibes – bring your energy\, rep your country colours\, bring your flag\, and your crew! 💦💥 \nGet ready for an unforgettable night of foam\, bubbles\, flags\, and carnival vibes! with the best DJ’s and Acts in 2 ROOMS OF CARNIVAL MADNESS !!! 🔥 \nEvent exclusively for those aged 18 and over. Physical photo identification is required. No Photo ID\, No Entry.  \n📍 Venue: Fire Vauxhall\n🕚 Time: 11PM – 5AM\n🎟️ Tickets from £15 – This event will sell out ⚠️ Book your ticket now! \n🔗 Tickets : \nFor more than 15 years Sun Bailante has been delivering the best events during Notting Hill Carnival. Your carnival starts here. \n  \n  \n 
URL:https://sunbailante.com/event/notting-hill-carnival-2025-closing-party-the-megafoam-party
LOCATION:Fire Nightclub\, 39 Parry Street\, South Lambeth Road\, London\, SW8 1RT\, United Kingdom
CATEGORIES:Carnivals,Notting Hill
ATTACH;FMTTYPE=image/jpeg:https://sunbailante.com/wp-content/uploads/2025/05/The-Mega-Foam-Party.jpg
END:VEVENT
BEGIN:VEVENT
DTSTART;TZID=Europe/Paris:20250824T230000
DTEND;TZID=Europe/Paris:20250824T230000
DTSTAMP:20260424T231107
CREATED:20250513T015745Z
LAST-MODIFIED:20250723T115406Z
UID:1513-1756076400-1756076400@sunbailante.com
SUMMARY:The Hot Carnival Party - Notting Hill Carnival 2025 - Afterparty - BOUWEY WITH 1T1
DESCRIPTION:  \n \n  \n1T1 will perform BOUWEY the global Carnival Anthem as well as his other tube (Leave me alone\, best friend…) at THE HOT CARNIVAL PARTY! \nLive your Notting Hill Carnival 2025 experience like never before\, joining our most iconic party. Sunday 24th August 2025 is set to be our biggest event with our anticipated return to London’s prime spot Heaven Nightclub club. \nYes! « The Hot Carnival Party » returns to Heaven! 🙌🏽🥳 \nA throng of Sexy Angels\, Hot Devils and Crazy Bacchanals will revel like there is no tomorrow!! \nCostumes contest with champagne bottles & VIP treatments for the best outfits!!! \n😈 😇 Over 2000 mad angels\, devils and bacchanals in a Caribbean and African Carnival Party \n🔊 🎶 4 rooms filled with hottest Carnival sounds \n🎙️ 🎚️ The baddest acts and Djs \n💃🏾 🎉 An explosive Carnival showcase \n🎁 🤓 And many more surprises. \nWe’ve got 4 diabolic rooms of carnival and tropical tunes: \n🔥 Hell – Carnival room with Soca\, Bouyon\, Shatta… 🎉 \n🪽 Paradise – Afro room with Afrobeats\, Amapiano\, Afrohouse\, Kuduro\, Bailé Funk… \n❤️‍🔥 Purgatory – Love room with Zouk\, Konpa\, Kizomba\, Lokal… ❤️ \n🌴 Eden – Jamaican room with Dancehall\, Ragga\, Reggae… \nSo no more hesitation\, yuh ready? \nThis event is for people over 18 years old only. Photo ID/Passport are required on doors. No ID\, No entry. \n📍 Venue: Heaven (Charing Cross)🕚 Time: 11PM – 5AM🎟️ Tickets from £15 – This event will sell out ⚠️ Book your ticket now! \nFor the last 15 years\, Sun Bailante has been delivering the best Carnival events in London. Carnival starts here 🫡
URL:https://sunbailante.com/event/the-hot-carnival-party-notting-hill-carnival-2025-afterparty-return-to-heaven
LOCATION:Heaven Nightclub\, 17 Villiers Street\, London\, WC2N 6NG\, United Kingdom
CATEGORIES:Carnivals,Notting Hill
ATTACH;FMTTYPE=image/jpeg:https://sunbailante.com/wp-content/uploads/2025/05/Screenshot-2025-07-23-at-8.59.50 am.jpg
END:VEVENT
BEGIN:VEVENT
DTSTART;TZID=Europe/Paris:20250823T220000
DTEND;TZID=Europe/Paris:20250824T000000
DTSTAMP:20260424T231107
CREATED:20250606T124427Z
LAST-MODIFIED:20250811T135204Z
UID:1548-1755986400-1755993600@sunbailante.com
SUMMARY:Carnival Energy!  Notting Hill Carnival 2025 - WARMUP PARTY FT KRYSS & DJ KAWEST
DESCRIPTION:After the huge success of last year’s event\, Sun Bailante returns to Earth London in Dalston for another roadblock Carnival warm up party. \nHere comes Carnival Energy ⚡️ and it’s set to be the BIGGEST Pre Notting Hill Carnival party with 2 MAJOR HEADLINERS KRYS & DJ KAWEST !!! \nThe Star for Guadeloupe KRYS will perform for the first time in the UK with his mad Carnival tunes : \n\nGod Bless (Ah la vie qu’on mène…)\nMister plata (Tu veux quoi bébé)\nBing Bang\nHolidays\n\nAnd his older songs!!! \nKAWEST is one of the biggest Hit makers and Dj’s of these years : \n\nWhen Haïti meets Angola\nDis moi\nChambre\nChouchou (feat Aya Nakamura)\n\nPlus DJs Zoxy\, Coss\, Marito\, Konz\, Mack a EDott… \nWear your Shades\, Shorts and Bikinis 👙😎 we are going to the beach 🥵 🔥 \nEvent exclusively for those aged 18 and over. Physical identification is required. No Photo ID\, No Entry. The last entry is at 1 a.m. \n📍 Venue: EartH🕚 Time: 10PM till late🎟️ Tickets from £15 – This event will sell out ⚠️ Book your ticket now! \nFor more than 15 years Sun Bailante has been delivering the best Notting Hill Carnival events. Your carnival starts here ! 🫡 \n\n  \n\n\n\n 
URL:https://sunbailante.com/event/carnival-energy-notting-hill-carnival-2025-warmup-party
LOCATION:Earth London\, 11-17 Stoke Newington Road\, London\, N16 8BH\, United Kingdom
CATEGORIES:Carnivals,Notting Hill
ATTACH;FMTTYPE=image/jpeg:https://sunbailante.com/wp-content/uploads/2025/06/Screenshot-2025-08-11-at-10.02.46 am.jpg
END:VEVENT
BEGIN:VEVENT
DTSTART;TZID=Europe/Paris:20250822T220000
DTEND;TZID=Europe/Paris:20250823T040000
DTSTAMP:20260424T231107
CREATED:20250606T122406Z
LAST-MODIFIED:20250723T121505Z
UID:1542-1755900000-1755921600@sunbailante.com
SUMMARY:Melé Friday - 4 Kampé The Haitian style Carnival Warm up Party! Notting Hill 2025
DESCRIPTION:  \n \nKonpa London and Sun Bailante return to O2 Islington for the hottest Haitian style Carnival party in London city for Notting Hill 2025!!! \nThat’s Melé Friday! your Carnival party blending Haitian\, English\, French Caribbean and African sounds & music!!! 🎵​ 🎉 \n OSOCITY 👑​ will be gracing the decks direct from Miami. 🤩​ He will be back this year again for one of the baddest shows on earth! \nExpect the baddest sounds Raboday\, Soca\, Dancehall\, Shatta\, Bouyon\, Konpa\, Afrobeats\, Amapiano and more. 🔥 \nThe theme this year is 4 Kampé as we will live our lives to the fullest… More details coming soon..  \nTickets will fly! Get yours now! \nThis event is for people over 18 years old only. Photo ID is required\, No Photo ID No entry.
URL:https://sunbailante.com/event/mele-friday-the-haitian-style-carnival-warm-up-party-notting-hill-2025
LOCATION:O2 Academy Islington\, 16 Parkfield St\, London\, London\, N1 0PS\, United Kingdom
CATEGORIES:Carnivals,Notting Hill
ATTACH;FMTTYPE=image/jpeg:https://sunbailante.com/wp-content/uploads/2025/06/oso16X9_SIZE-OSOCITY-21.jpg
END:VEVENT
END:VCALENDAR